BEGIN:VCALENDAR
VERSION:2.0
PRODID:-//Storie &amp; Archeostorie - ECPv6.15.20//NONSGML v1.0//EN
CALSCALE:GREGORIAN
METHOD:PUBLISH
X-ORIGINAL-URL:https://storiearcheostorie.com
X-WR-CALDESC:Eventi per Storie &amp; Archeostorie
REFRESH-INTERVAL;VALUE=DURATION:PT1H
X-Robots-Tag:noindex
X-PUBLISHED-TTL:PT1H
BEGIN:VTIMEZONE
TZID:Europe/Rome
BEGIN:DAYLIGHT
TZOFFSETFROM:+0100
TZOFFSETTO:+0200
TZNAME:CEST
DTSTART:20250330T010000
END:DAYLIGHT
BEGIN:STANDARD
TZOFFSETFROM:+0200
TZOFFSETTO:+0100
TZNAME:CET
DTSTART:20251026T010000
END:STANDARD
BEGIN:DAYLIGHT
TZOFFSETFROM:+0100
TZOFFSETTO:+0200
TZNAME:CEST
DTSTART:20260329T010000
END:DAYLIGHT
BEGIN:STANDARD
TZOFFSETFROM:+0200
TZOFFSETTO:+0100
TZNAME:CET
DTSTART:20261025T010000
END:STANDARD
BEGIN:DAYLIGHT
TZOFFSETFROM:+0100
TZOFFSETTO:+0200
TZNAME:CEST
DTSTART:20270328T010000
END:DAYLIGHT
BEGIN:STANDARD
TZOFFSETFROM:+0200
TZOFFSETTO:+0100
TZNAME:CET
DTSTART:20271031T010000
END:STANDARD
END:VTIMEZONE
BEGIN:VEVENT
DTSTART;TZID=Europe/Rome:20260319T203000
DTEND;TZID=Europe/Rome:20260319T213000
DTSTAMP:20260423T174118
CREATED:20260312T142825Z
LAST-MODIFIED:20260312T142825Z
UID:48587-1773952200-1773955800@storiearcheostorie.com
SUMMARY:Presentazione scavi | La riscoperta del Bagno di San Martino (Trento)
DESCRIPTION:Giovedì 19 marzo\, alle ore 20.30\, a Trento presso lo Spazio Alpino alla Casa della SAT\, in via Manci 57\, Cristina Bassi\, archeologa della Soprintendenza per i beni culturali e Marco Gramola\, studioso della Grande Guerra e componente della Commissione Storico Culturale della SAT\, presenteranno gli esiti della campagna di indagini condotte con metodo archeologico sui resti del bagno pubblico\, dotato di una grande piscina\, noto come “Bagno di San Martino”\, in piazza Centa a Trento. Realizzata negli ultimi decenni del XIX secolo\, la struttura venne chiusa nel 1915. La serata è proposta nell’ambito del programma di attività culturali della SUSAT\, la Sezione Universitaria della SAT\, in collaborazione con la Commissione Storico Culturale e la Biblioteca della SAT. L’ingresso è libero.
URL:https://storiearcheostorie.com/event/riscoperta-del-bagno-di-san-martino-trento/
LOCATION:Casa della SAT\, via Manci 57\, Trento\, Italy
CATEGORIES:archeologia,presentazione scavi
ATTACH;FMTTYPE=image/png:https://storiearcheostorie.com/wp-content/uploads/2026/03/bagno-di-san-martino-trento.png
END:VEVENT
END:VCALENDAR