BEGIN:VCALENDAR
VERSION:2.0
PRODID:-//Storie &amp; Archeostorie - ECPv6.15.20//NONSGML v1.0//EN
CALSCALE:GREGORIAN
METHOD:PUBLISH
X-ORIGINAL-URL:https://storiearcheostorie.com
X-WR-CALDESC:Eventi per Storie &amp; Archeostorie
REFRESH-INTERVAL;VALUE=DURATION:PT1H
X-Robots-Tag:noindex
X-PUBLISHED-TTL:PT1H
BEGIN:VTIMEZONE
TZID:Europe/Rome
BEGIN:DAYLIGHT
TZOFFSETFROM:+0100
TZOFFSETTO:+0200
TZNAME:CEST
DTSTART:20250330T010000
END:DAYLIGHT
BEGIN:STANDARD
TZOFFSETFROM:+0200
TZOFFSETTO:+0100
TZNAME:CET
DTSTART:20251026T010000
END:STANDARD
BEGIN:DAYLIGHT
TZOFFSETFROM:+0100
TZOFFSETTO:+0200
TZNAME:CEST
DTSTART:20260329T010000
END:DAYLIGHT
BEGIN:STANDARD
TZOFFSETFROM:+0200
TZOFFSETTO:+0100
TZNAME:CET
DTSTART:20261025T010000
END:STANDARD
BEGIN:DAYLIGHT
TZOFFSETFROM:+0100
TZOFFSETTO:+0200
TZNAME:CEST
DTSTART:20270328T010000
END:DAYLIGHT
BEGIN:STANDARD
TZOFFSETFROM:+0200
TZOFFSETTO:+0100
TZNAME:CET
DTSTART:20271031T010000
END:STANDARD
END:VTIMEZONE
BEGIN:VEVENT
DTSTART;TZID=Europe/Rome:20260228T163000
DTEND;TZID=Europe/Rome:20260228T183000
DTSTAMP:20260423T001131
CREATED:20260224T104126Z
LAST-MODIFIED:20260224T105211Z
UID:47448-1772296200-1772303400@storiearcheostorie.com
SUMMARY:TOURISMA 2026 | conferenza: Paolo Carucci e le Grotte di Pertosa-Auletta. Una ricerca preistorica di fine Ottocento (Firenze)
DESCRIPTION:Le Grotte di Pertosa-Auletta al centro di tourismA 2026\, il salone dell’archeologia e del turismo culturale in programma dal 27 febbraio all’1 marzo al Palazzo dei Congressi di Firenze. \nLa Fondazione MIdA parteciperà alla manifestazione con uno stand informativo dedicato alla promozione delle valenze speleologiche e archeologiche del sito sotterraneo. Momento centrale sarà la conferenza in programma sabato 28 febbraio\, dalle 16.30 alle 18.30\, in Sala Onice\, dal titolo “Paolo Carucci e le Grotte di Pertosa-Auletta. Una ricerca preistorica di fine Ottocento”. \nL’incontro approfondirà la figura e l’opera di Paolo Carucci\, studioso di Scienze Naturali e medico originario di Caggiano\, tra i pionieri delle ricerche paletnologiche nella cavità campana\, vissuto tra Ottocento e Novecento. Il suo legame con le Grotte di Pertosa-Auletta lo portò alla pubblicazione\, nel 1907\, della monografia “La Grotta preistorica di Pertosa. Contribuzione alla Paletnologia\, Speleologia ed Idrografia”\, ancora oggi punto di riferimento per studiosi e ricercatori. \nAlla conferenza interverranno: \nMaria Rosaria Carfagna\, presidente della Fondazione MIdA\, con l’intervento “L’impegno della Fondazione MIdA per la ricerca archeologica: dalle indagini sul terreno alla ristampa anastatica dell’opera di Paolo Carucci”; \nMirella Serlorenzi\, direttore dell’Istituto Centrale per l’Archeologia – MIC\, con la relazione “Le Grotte di Pertosa-Auletta: un contesto di sperimentazione per l’individuazione di standard metodologici e linee di intervento”; \nMassimo Santoro\, Società IREN – Centrale idroelettrica del Tanagro\, che affronterà il tema “Acqua: da elemento di tutela di un giacimento archeologico a esempio virtuoso di produzione d’energia sostenibile”; \nAlessia Fuscone\, Istituto Centrale per l’Archeologia – MIC\, con l’intervento “La grande caverna sul fiume Tanagro: un ‘archivio privilegiato’ per la ricerca archeologica”; \nFelice Larocca\, direttore del Museo speleo-archeologico MIdA 01\, Centro di ricerca speleo-archeologica “Enzo dei Medici”\, che curerà la “Presentazione della ristampa anastatica della monografia di Paolo Carucci La Grotta preistorica di Pertosa. Contribuzione alla Paletnologia\, Speleologia ed Idrografia (Napoli\, 1907)”. \nLa pubblicazione\, destinata a biblioteche nazionali e internazionali\, è un’edizione fuori commercio che potrà essere acquisita da enti accademici\, istituti di ricerca e centri di cultura attraverso la formula dello scambio bibliografico. \nL’iniziativa vede la luce con gli auspici della Regione Campania\, della Provincia di Salerno e dei Comuni di Pertosa e Auletta. \n  \nLeggi gli articoli pubblicati su Storie & Archeostorie dedicati alla Grotta di Petrosa Auletta: \nSotto terra\, lungo il fiume: riprendono gli scavi nelle Grotte di Pertosa-Auletta \n \n  \nGrotte di Pertosa-Auletta (Salerno)\, dallo scavo emerge una struttura di culto ellenistico. Novità anche dalla palafitta dell’età del Bronzo \n \n 
URL:https://storiearcheostorie.com/event/tourisma-2026-grotte-pertosa-auletta/
LOCATION:Palazzo dei Congressi di Firenze\, Piazza Adua\, 1\, Firenze\, Italy
CATEGORIES:archeologia,conferenze,presentazioni librarie
ATTACH;FMTTYPE=image/jpeg:https://storiearcheostorie.com/wp-content/uploads/2026/02/ristampa-anastatica-opera-di-Paolo-Carucci.jpg
END:VEVENT
BEGIN:VEVENT
DTSTART;TZID=Europe/Rome:20260314T170000
DTEND;TZID=Europe/Rome:20260314T183000
DTSTAMP:20260423T001131
CREATED:20260312T104534Z
LAST-MODIFIED:20260312T104534Z
UID:48508-1773507600-1773513000@storiearcheostorie.com
SUMMARY:Presentazione libro | “La Terra dei Giganti. Studi di Archeologia e Storia in memoria di Giovanni Mannino” (Cefalù - PA)
DESCRIPTION:Si presenta sabato 14 marzo 2026 alle ore 17\,00 presso la Sala delle Capriate del Palazzo municipale a Cefalù il libro “La Terra dei Giganti. Studi di Archeologia e Storia in memoria di Giovanni Mannino” curato da Alfonso Lo Cascio e Antonino Filippi. Dopo i saluti istituzionali di Francesco Calabrese\, Presidente del Consiglio comunale\, del Sindaco Daniele Tumminello e di Josè Gugliuzza\, Presidente della sezione CAI di Cefalù\, i curatori esporranno il contenuto del volume. Coordina Valentina Portera\, Presidente della sede di BCsicilia di Cefalù. Marcello Panzica La Manna\, speleologo\, con più di 50 anni di iscrizione al CAI\, proporrà un breve ricordo di Giovanni Mannino. L’iniziativa è promossa dal Comune di Cefalù\, BCsicilia\, CAI\, Angelo Mazzotta editore con il patrocinio della Regione Sicilia. \nIl volume\, dedicato allo studioso Giovanni Mannino\, raccoglie il contributo di 19 studiosi: Giuseppina Battaglia\, Alberto Cazzella\, Massimo Cultraro\, Franco D’Angelo\, Rosanna De Simone\, Sara Di Salvo\, Antonino Filippi\, Rossella Giglio Cerniglia\, Caterina Greco\, Domenico Laudicina\, Alfonso Lo Cascio\, Giuseppe Lo Iacono\, Marcello A. Mannino\, Ferdinando Maurici\, Giulia Recchia\, Alberto Scuderi\, Francesca Spatafora\, Sebastiano Tusa\, Stefano Vassallo. Il libro è pubblicato da Angelo Mazzotta editore. \nLe dinamiche storiche e archeologiche che hanno interessato la Sicilia e l’Isola di Malta dalla Preistoria al Medioevo sono il tema dei contributi che arricchiscono questo volume\, scritto da specialisti del settore\, con approfondimenti sulle più recenti scoperte\, frutto di scavi\, indagini nel territorio e nei magazzini dei musei siciliani. Si scopre così che le nostre conoscenze sulle antiche culture testimoniate nell’Isola si legano strettamente all’attività di ricerca di un uomo\, Giovanni Mannino\, che per oltre mezzo secolo è stato uno dei protagonisti della cultura siciliana e al quale\, come dimostra la sua lunga bibliografia\, molto dobbiamo sulle attuali conoscenze in diverse discipline\, dall’Archeologia alla Speleologia. \nI curatori del libro: Alfonso Lo Cascio\, giornalista pubblicista\, è Presidente regionale di BCsicilia. Ha dato vita all’Università Popolare di Termini Imerese. È Direttore della rivista Espero che si occupa di cultura\, politica\, informazione\, e fondatore della Casa editrice Don Lorenzo Milani. È inoltre Direttore responsabile della rivista “Galleria\, Rassegna semestrale di cultura”. Tra le sue pubblicazioni: “Himerensis\, Agenda dei paesi del termitano”\, “La riserva di Pizzo Cane\, Pizzo Trigna e Grotta Mazzamuto”\, “Un eroe semplice”. “1943: la Reconquista dell’Europa”\, “Il futuro delle città. Memoria\, identità\, bellezza\, nuovo umanesimo”. Per il suo impegno culturale gli sono stati conferiti i premi “Quattro arcangeli”\, “Sikelè”\, “Gaia”\, “Civitas”\, “La Campana di Burgio”\, “Paolo Amato – Città di Ciminna” e “Kermesse 2023”. \nAntonino Filippi\, è laureato in Archeologia presso l’Università di Palermo e attualmente conduce un progetto di Dottorato di ricerca sulla Protostoria siciliana presso l’Università di Roma “Tor Vergata”. Per conto della Regione Siciliana è Ispettore Onorario del Parco Archeologico di Segesta. Vicedirettore nazionale dei Gruppi Archeologici d’Italia\, con l’incarico di Responsabile scientifico della rivista “Archeologia”. È socio ordinario dell’Istituto Italiano di Preistoria e Protostoria. Ha partecipato a diverse attività di ricerca\, con oltre quaranta pubblicazioni sull’archeologia e la topografia antica del territorio siciliano\, tra le quali quattro monografie e la curatela con altri autori di due convegni scientifici.
URL:https://storiearcheostorie.com/event/presentazione-libro-la-terra-dei-giganti/
LOCATION:Palazzo municipale di Cefalù\, Corso Ruggero\, 139\, Cefalù\, Italy
CATEGORIES:archeologia,presentazioni librarie
ATTACH;FMTTYPE=image/jpeg:https://storiearcheostorie.com/wp-content/uploads/2026/03/Copertina-libro-La-Terra-dei-Giganti-1.jpg
END:VEVENT
BEGIN:VEVENT
DTSTART;TZID=Europe/Rome:20260315T163000
DTEND;TZID=Europe/Rome:20260315T180000
DTSTAMP:20260423T001131
CREATED:20260309T165444Z
LAST-MODIFIED:20260309T165444Z
UID:48176-1773592200-1773597600@storiearcheostorie.com
SUMMARY:Presentazione libraria | Da Farfa al Matenano. Scritti in memoria di Tersilio Leggio\, storico dell'"Italia mediana" (S. Vittoria in Matenano - FM)
DESCRIPTION:Domenica 15 marzo 2026 alle ore 16.30 si terrà la presentazione del libro Da Farfa al Matenano. Scritti in memoria di Tersilio Leggio\, storico dell'”Italia mediana”\, a cura di Carlo Verducci.  \nLa presentazione si terrà a Santa Vittoria in Matenano (Fermo) nella sede di Palazzo Monti (Sala Conferenze). \nDopo i saluti istituzionali\, interverranno il curatore del libro\,  Carlo Verducci\, l’archeologo Andrea R. Staffa e lo storico medievista Valter Laudadio. Modera Andrea Livi\, editore. \n 
URL:https://storiearcheostorie.com/event/da-farfa-al-matenano-libro/
LOCATION:Palazzo Monti\, Corso Giacomo Matteotti\, 23\, Santa Vittoria in Matenano\, Italy
CATEGORIES:presentazioni librarie
ATTACH;FMTTYPE=image/jpeg:https://storiearcheostorie.com/wp-content/uploads/2026/03/farfa.jpeg
END:VEVENT
BEGIN:VEVENT
DTSTART;TZID=Europe/Rome:20260321T170000
DTEND;TZID=Europe/Rome:20260321T190000
DTSTAMP:20260423T001131
CREATED:20260317T144531Z
LAST-MODIFIED:20260317T144531Z
UID:48651-1774112400-1774119600@storiearcheostorie.com
SUMMARY:Presentazione libro | Guida Museo Civico Archeologico di Bologna (Bologna)
DESCRIPTION: Il Museo Civico Archeologico del Settore Musei Civici del Comune di Bologna inaugura Visto\, si stampi!\, un ciclo di quattro incontri a ingresso libero che presenta al pubblico le ultime pubblicazioni del museo\, con Dalle pagine alle sale\, l’appuntamento dedicato alla nuova Guida Museo Civico Archeologico di Bologna\, curata da Paola Giovetti e Marinella Marchesi ed edita da Franco Cosimo Panini Editore\, in programma sabato 21 marzo 2026\, alle ore 17.00\, presso la sala conferenze del museo (via dell’Archiginnasio 2).\nA introdurre l’incontro sarà Daniele Del Pozzo\, assessore alla Cultura del Comune di Bologna\, a presentare il volume Tiziano Trocchi\, direttore del Museo Archeologico Nazionale di Ferrara.\nA seguire\, le curatrici delle diverse sezioni del museo saranno a disposizione del pubblico per una passeggiata nelle sale. \nSono passati diciassette anni dalla pubblicazione della precedente Guida al Museo Civico Archeologico (Editrice Compositori\, 2009) e i tempi erano ormai maturi per la realizzazione di un nuovo volume che raccontasse i cambiamenti intercorsi in questo lasso temporale: alcuni allestimenti sono stati rinnovati\, oggetti un tempo conservati nei depositi sono ora in esposizione\, nuove conoscenze hanno dato linfa vitale agli studi\, permettendo di narrare al pubblico con differenti chiavi di lettura il patrimonio custodito nel museo.\nTra i diversi mutamenti da annoverare\, vi è quello che riguarda i pubblici che ogni giorno frequentano il museo: bambine e bambini\, ragazze e ragazzi delle scuole del territorio\, e non solo\, continuano incessantemente a popolare gli spazi museali portando nuove visioni e nuovi linguaggi\, mentre il turismo\, attore sempre più centrale nella vita culturale cittadina\, sta producendo un incremento di pubblico in tutti i Musei Civici bolognesi e in particolare al Museo Civico Archeologico che\, tra questi\, risulta il più visitato\, con 173.100 presenze rilevate nel 2025. \nLa nuova guida si fa\, dunque\, portavoce dei mutamenti intercorsi negli ultimi anni\, incluso quello di aver adottato un approccio divulgativo che coniuga il linguaggio tecnico con quello maggiormente accessibile a un pubblico non strettamente specialistico\, proponendo un’edizione italiana e una inglese con testi agili da consultare\, schede che accompagnano il lettore in una narrazione arricchita da immagini e un nuovo formato che possa agevolare la consultazione anche durante la visita in loco. \nVisto\, si stampi!\, il ciclo di quattro appuntamenti dedicato alle presentazioni delle ultime novità editoriali relative al Museo Civico Archeologico\, caratterizzate da linguaggi e approcci differenti verso pubblici in continua evoluzione\, rientra nel programma della XXII edizione della Festa internazionale della Storia\, manifestazione organizzata dal Centro Internazionale di Didattica della Storia e del Patrimonio (DiPaSt) del Dipartimento di Scienze dell’Educazione “Giovanni Maria Bertin”\, dal Laboratorio Multidisciplinare di Ricerca Storica (LMRS)\, in collaborazione con l’Alma Mater Studiorum – Università di Bologna\, associazioni\, scuole e istituzioni. \nLa rassegna prosegue con i seguenti appuntamenti: \nIl medagliere si rivela. Museo Civico Archeologico di Bologna\nSabato 28 marzo 2026 ore 17.00\nPaola Giovetti e Laura Marchesini\, rispettivamente responsabile e referente della Collezione numismatica del Museo\, presentano il volume Il medagliere si rivela (2025)\, che racconta le esposizioni di beni numismatici\, realizzate tra il 2023 e il 2025\, attraverso percorsi tematici\, ideate per consentire al pubblico di scoprire e conoscere lo straordinario patrimonio numismatico del museo.\nSarà inoltre presentata la nuova mostra dedicata alle monete e alle medaglie legate ai temi della Pasqua\, Pasqua in nummis\, con le curatrici e autrici del libro Paola Giovetti e Laura Marchesini. L’esposizione sarà allestita dal 25 marzo al 6 luglio 2026.\n\nPietre che parlano. Voci e storie da Bononia\nSabato 11 aprile 2026 ore 17.00\nFrancesca Cenerini (professoressa di Storia romana ed Epigrafia romana – Università di Bologna) e Paola Giovetti (direttrice Museo Civico Archeologico di Bologna) presentano il volume Pietre che parlano. Voci e storie da Bononia (2026) di Valentina Uglietti\, Lucia Romoli e A.A.M.A.\, pubblicato da Edizioni Espera.\nIl libro è una guida originale e coinvolgente al Lapidario del Museo Civico Archeologico di Bologna che unisce racconti\, divulgazione scientifica e immaginazione per far scoprire l’antica Bologna romana. Pensato soprattutto per adolescenti ma adatto anche agli adulti\, può essere letto sia all’interno del museo sia autonomamente.\nAll’incontro seguirà una presentazione “animata” della pubblicazione con le archeologhe del museo Federica Guidi e Marinella Marchesi\, insieme alle autrici.\nL’appuntamento rientra nel programma della nona edizione di BOOM! Crescere nei libri\, il festival dei libri e dell’illustrazione per l’infanzia che anima Bologna e la Città metropolitana prima\, durante e dopo la Bologna Children’s Book Fair\, promosso da Comune di Bologna e BolognaFiere\, e curato dal Settore Biblioteche e Welfare culturale e da Hamelin nell’ambito del Patto per la lettura di Bologna. \nLa Fonderia di Bologna. Il Ripostiglio di San Francesco nell’opera di Antonio Zannoni\nSabato 18 aprile 2026 ore 17.00\nLaura Bentini (archeologa e curatrice del volume) e Giulio Paolucci (conservatore Museo d’Arte di Fondazione Luigi Rovati\, Milano) presentano La Fonderia di Bologna. Il Ripostiglio di San Francesco nell’opera di Antonio Zannoni (2026)\, riedizione dello studio del 1907 dedicato dallo scopritore Antonio Zannoni al più straordinario rinvenimento dell’abitato etrusco di Bologna. Il volume è pubblicato da Johan & Levi\, all’interno della collana Cahiers.\nUna nuova veste per un antico libro\, riletto con gli occhi di oltre un secolo di ricerche\, nata da una collaborazione fra il Museo Civico Archeologico di Bologna e la Fondazione Luigi Rovati che ha avuto come primo frutto la realizzazione di un supporto multimediale alla visita della sala dedicata all’esposizione del Ripostiglio.\nAl termine dell’incontro seguirà una visita guidata con Laura Bentini\, che ha curato il riallestimento della sala del Ripostiglio. \nPresso il Bookshop del Museo Civico Archeologico\, gestito da Fondazione Bologna Welcome e accessibile negli orari di apertura del museo\, sarà possibile acquistare i volumi presentati nel ciclo Visto\, si stampi! a partire dal giorno delle rispettive presentazioni\, ad eccezione de Il Medagliere si rivela già disponibile per la vendita. \nInformazioni\nMuseo Civico Archeologico\nVia dell’Archiginnasio 2 | 40124 Bologna\nTel. +39 051 2757211\nwww.museibologna.it/archeologico\nmca@comune.bologna.it\nFacebook: Museo Civico Archeologico di Bologna\nInstagram: @museoarcheologicobologna\nYouTube: Museo Civico Archeologico di Bologna
URL:https://storiearcheostorie.com/event/presentazione-libro-guida-museo-civico-archeologico-bologna/
LOCATION:Museo Civico Archeologico – Bologna\, Via dell'Archiginnasio 2\, Bologna\, Italy
CATEGORIES:archeologia,presentazioni librarie
ATTACH;FMTTYPE=image/jpeg:https://storiearcheostorie.com/wp-content/uploads/2026/03/guida-museo-archeologico-bologna.jpg
END:VEVENT
BEGIN:VEVENT
DTSTART;TZID=Europe/Rome:20260318T170000
DTEND;TZID=Europe/Rome:20260318T190000
DTSTAMP:20260423T001131
CREATED:20260311T115153Z
LAST-MODIFIED:20260311T115153Z
UID:48422-1773853200-1773860400@storiearcheostorie.com
SUMMARY:Presentazione libraria | La basilica di San Dionigi a Milano. Archeologia\, tradizione e storia (Milano)
DESCRIPTION:Mercoledì 18 marzo 2026 alle ore 17.00 presso la Sala Azzurra in Palazzo Litta a Milano verrà presentato il volume La basilica di San Dionigi a Milano. Archeologia\, tradizione e storia\, a cura di Anna Maria Fedeli (Nomos Edizioni)\, con la collaborazione di Luigi Pedrini e Tommaso Quirino. \nIl libro ripercorre la lunga e travagliata storia di questo monumento\, scomparso definitivamente dal paesaggio milanese alla fine del Settecento\, lasciando in eredità pochi disiecta membra e molti interrogativi sulla sua storia ultramillenaria. \nUn articolato e multidisciplinare progetto di ricerca promosso dalla Soprintendenza Archeologia\, Belle Arti e Paesaggio per la Città metropolitana di Milano ha permesso di riportarne finalmente in luce i resti e di verificarne l’origine paleocristiana. \nI risultati delle ricerche archeologiche insieme alle numerose testimonianze conservate negli archivi e nelle chiese della città e della diocesi ambrosiana presentate nel volume forniscono gli elementi per ricostruire l’intricata vicenda storica di questa misteriosa chiesa. \nAlla presentazione interverranno la Soprintendente Arch. Emanuela Carpani\, la prof.ssa Silvia Lusuardi Siena\, già docente di Archeologia medievale presso l’Università Cattolica del Sacro Cuore di Milano\, e il prof. Marco Rossi\, docente di Storia dell’Arte Medievale presso lo stesso Ateneo. \nIngresso libero.\n\nEvento organizzato in collaborazione con la Direzione regionale Musei nazionali della Lombardia e la Direzione di Palazzo Litta.
URL:https://storiearcheostorie.com/event/libro-basilica-san-dionigi-milano/
LOCATION:Palazzo Litta\, Corso Magenta\, 24\, Milano\, Italy
CATEGORIES:archeologia,presentazioni librarie
ATTACH;FMTTYPE=image/jpeg:https://storiearcheostorie.com/wp-content/uploads/2026/03/san-dionigi.jpg
END:VEVENT
END:VCALENDAR