BEGIN:VCALENDAR
VERSION:2.0
PRODID:-//Storie &amp; Archeostorie - ECPv6.15.20//NONSGML v1.0//EN
CALSCALE:GREGORIAN
METHOD:PUBLISH
X-WR-CALNAME:Storie &amp; Archeostorie
X-ORIGINAL-URL:https://storiearcheostorie.com
X-WR-CALDESC:Eventi per Storie &amp; Archeostorie
REFRESH-INTERVAL;VALUE=DURATION:PT1H
X-Robots-Tag:noindex
X-PUBLISHED-TTL:PT1H
BEGIN:VTIMEZONE
TZID:Europe/Rome
BEGIN:DAYLIGHT
TZOFFSETFROM:+0100
TZOFFSETTO:+0200
TZNAME:CEST
DTSTART:20250330T010000
END:DAYLIGHT
BEGIN:STANDARD
TZOFFSETFROM:+0200
TZOFFSETTO:+0100
TZNAME:CET
DTSTART:20251026T010000
END:STANDARD
BEGIN:DAYLIGHT
TZOFFSETFROM:+0100
TZOFFSETTO:+0200
TZNAME:CEST
DTSTART:20260329T010000
END:DAYLIGHT
BEGIN:STANDARD
TZOFFSETFROM:+0200
TZOFFSETTO:+0100
TZNAME:CET
DTSTART:20261025T010000
END:STANDARD
BEGIN:DAYLIGHT
TZOFFSETFROM:+0100
TZOFFSETTO:+0200
TZNAME:CEST
DTSTART:20270328T010000
END:DAYLIGHT
BEGIN:STANDARD
TZOFFSETFROM:+0200
TZOFFSETTO:+0100
TZNAME:CET
DTSTART:20271031T010000
END:STANDARD
END:VTIMEZONE
BEGIN:VEVENT
DTSTART;TZID=Europe/Rome:20260225T160000
DTEND;TZID=Europe/Rome:20260225T180000
DTSTAMP:20260422T204109
CREATED:20260219T140924Z
LAST-MODIFIED:20260219T140924Z
UID:47369-1772035200-1772042400@storiearcheostorie.com
SUMMARY:Presentazione libro | “L’antropologia del mondo antico" (Siena)
DESCRIPTION:Il Centro Interuniversitario Antropologia e Mondo Antico – AMA celebra quarant’anni di attività con la presentazione del volume “L’antropologia del mondo antico” (Il Mulino)\, in programma il 25 febbraio alle ore 16 presso l’Auditorium del Santa Chiara Lab (via Valdimontone 1) a Siena. \nIl libro\, curato da Maurizio Bettini\, Professore emerito dell’Università di Siena\, raccoglie contributi dedicati sia agli strumenti dell’antropologia del mondo antico e alla storia della disciplina\, sia a casi di studio relativi a pratiche e forme culturali concrete. \nL’incontro si aprirà con i saluti istituzionali del Rettore Roberto Di Pietra\, del Sindaco di Siena Nicoletta Fabio\, di Alessandro Linguiti\, Direttore del Dipartimento di Filologia e Critica delle Letterature Antiche e Moderne (DFCLAM) e di Angelo Riccaboni\, Presidente del Santa Chiara Lab. \nSono in programma gli interventi dei docenti dell’Università di Siena: Simone Beta\, Manuela Giordano\, Mario Lentano e Cristiano Viglietti; e di Cristiana Franco Università per Stranieri di Siena\, Aglaia McClintock Università del Sannio e Silvia Romani dell’Università Statale di Milano. L’evento è coordinato dal giornalista e scrittore Edoardo Camurri. \nIl Centro AMA\, fondato da Maurizio Bettini e altri studiosi presso l’Università di Siena nel 1986\, conta 25 membri\, ed è frutto di una convenzione fra le Università di Siena\, l’Università per Stranieri di Siena\, l’Università del Sannio\, l’Università di Milano Statale. Le sue ricerche sono orientate verso l’approfondimento del mondo greco e romano in prospettiva antropologica\, quali la religione antica\, il rapporto fra uomini e animali\, le relazioni di parentela\, la memoria culturale romana\, le frontiere antropologiche del diritto\, il folclore antico\, l’economia arcaica\, specie quella romana\, e così via. \nNel corso degli anni il Centro ha pubblicato 18 volumi nella collana “Antropologia del Mondo Antico” (il Mulino)\, 6 volumi nella collana “Mythologica” (Einaudi)\, oltre a numerose altre opere di ricercatori e ricercatrici del Centro in sedi editoriali diverse. Da più di 10 anni pubblica inoltre la rivista online “I quaderni del ramo d’oro”\, riconosciuta come rivista di fascia A in numerosi settori dell’Antichistica.
URL:https://storiearcheostorie.com/event/presentazione-libro-lantropologia-del-mondo-antico-siena/
LOCATION:Auditorium del Santa Chiara Lab\, via Valdimontone 1\, Siena\, Italy
CATEGORIES:presentazioni librarie
ATTACH;FMTTYPE=image/jpeg:https://storiearcheostorie.com/wp-content/uploads/2026/02/antropologia-del-mondo-antico.jpg
END:VEVENT
BEGIN:VEVENT
DTSTART;TZID=Europe/Rome:20260225T170000
DTEND;TZID=Europe/Rome:20260225T183000
DTSTAMP:20260422T204109
CREATED:20260224T153941Z
LAST-MODIFIED:20260224T153941Z
UID:47565-1772038800-1772044200@storiearcheostorie.com
SUMMARY:Presentazione libro | Welfare culturale e Musei. Buone pratiche e nuove sinergie nella città di Roma (Roma)
DESCRIPTION:Mercoledì 25 febbraio alle 17.00\, nella Sala Tenerani del Museo di Roma si terrà la presentazione del libro “Welfare culturale e Musei. Buone pratiche e nuove sinergie nella città di Roma” (Palombi editore) \nUn approfondimento sul ruolo dell’arte nel miglioramento del benessere fisico e mentale delle persone\, specialmente le più fragili \n  \nIl volume Welfare culturale e Musei. Buone pratiche e nuove sinergie nella città di Roma (a cura di Ilaria Miarelli Mariani e Isabella Serafini\, Diano libri – Palombi editore) raccoglie e amplia i contributi emersi durante la Giornata di studi svoltasi il 13 ottobre 2024 nella Sala della Protomoteca in Campidoglio. \nL’opera si distingue per un’impostazione fortemente interdisciplinare che riflette il vasto ambito di applicazione di questa nuova prospettiva di ricerca\, per sua natura intersettoriale. Medici\, curatrici archeologhe e storiche dell’arte di Musei statali e della Sovrintendenza Capitolina\, rappresentanti del Terzo settore\, ricercatrici e ricercatori raccontano studi innovativi ed esperienze\, offrendo sotto differenti punti di vista numerosi spunti per ulteriori sviluppi e riflessioni sul tema del welfare culturale. \nIntervengono: \nPierPaola D’Alessandro\, Vice Direttrice Vicaria di Roma Capitale \nValeria Fabio\, Responsabile Servizi Museali e Istituti culturali Regione Lazio \nModera: \nValeria Arnaldi\, giornalista \n\nSaranno presenti le curatrici Ilaria Miarelli Mariani e Isabella Serafini\, Sovrintendenza Capitolina ai Beni Culturali. \n\nINFO \nMercoledì 25 febbraio\, ore 17.00 \nSala Tenerani\, Museo di Roma a Palazzo Braschi \nIngresso libero fino a esaurimento posti disponibili \nhttps://www.museodiroma.it \n\n—
URL:https://storiearcheostorie.com/event/presentazione-libro-welfare-culturale-e-musei-buone-pratiche-e-nuove-sinergie-nella-citta-di-roma-roma/
LOCATION:Museo di Roma a Palazzo Braschi\, Piazza di S. Pantaleo\, 10\, Roma\, Italy
CATEGORIES:presentazioni librarie
ATTACH;FMTTYPE=image/jpeg:https://storiearcheostorie.com/wp-content/uploads/2026/02/welfare-2026_1050x545.jpg
END:VEVENT
END:VCALENDAR