BEGIN:VCALENDAR
VERSION:2.0
PRODID:-//Storie &amp; Archeostorie - ECPv6.15.20//NONSGML v1.0//EN
CALSCALE:GREGORIAN
METHOD:PUBLISH
X-WR-CALNAME:Storie &amp; Archeostorie
X-ORIGINAL-URL:https://storiearcheostorie.com
X-WR-CALDESC:Eventi per Storie &amp; Archeostorie
REFRESH-INTERVAL;VALUE=DURATION:PT1H
X-Robots-Tag:noindex
X-PUBLISHED-TTL:PT1H
BEGIN:VTIMEZONE
TZID:Europe/Rome
BEGIN:DAYLIGHT
TZOFFSETFROM:+0100
TZOFFSETTO:+0200
TZNAME:CEST
DTSTART:20250330T010000
END:DAYLIGHT
BEGIN:STANDARD
TZOFFSETFROM:+0200
TZOFFSETTO:+0100
TZNAME:CET
DTSTART:20251026T010000
END:STANDARD
BEGIN:DAYLIGHT
TZOFFSETFROM:+0100
TZOFFSETTO:+0200
TZNAME:CEST
DTSTART:20260329T010000
END:DAYLIGHT
BEGIN:STANDARD
TZOFFSETFROM:+0200
TZOFFSETTO:+0100
TZNAME:CET
DTSTART:20261025T010000
END:STANDARD
BEGIN:DAYLIGHT
TZOFFSETFROM:+0100
TZOFFSETTO:+0200
TZNAME:CEST
DTSTART:20270328T010000
END:DAYLIGHT
BEGIN:STANDARD
TZOFFSETFROM:+0200
TZOFFSETTO:+0100
TZNAME:CET
DTSTART:20271031T010000
END:STANDARD
END:VTIMEZONE
BEGIN:VEVENT
DTSTART;TZID=Europe/Rome:20260409T080000
DTEND;TZID=Europe/Rome:20261112T170000
DTSTAMP:20260425T181149
CREATED:20260330T100151Z
LAST-MODIFIED:20260330T100151Z
UID:48957-1775721600-1794502800@storiearcheostorie.com
SUMMARY:Ciclo di conferenze | Costruire il futuro: i cantieri di Villa Giulia (Roma)
DESCRIPTION:Un cantiere in corso può trasformarsi in una straordinaria occasione di conoscenza\, in un laboratorio di ricerca e di scoperta che anticipa cambiamenti\, sfide e prospettive future. Dal 9 aprile 2026 il Museo Nazionale Etrusco di Villa Giulia presenta un ciclo di conferenze a cura della direttrice Luana Toniolo che racconta i grandi progetti in corso di realizzazione nelle sedi di Villa Giulia e Villa Poniatowski.\n\nDal cantiere delle ex Concerie Riganti presso Villa Poniatowski\, ai monumentali restauri di Villa Giulia\, dai nuovi allestimenti museali\, dove la narrazione delle collezioni incontrerà innovative forme di lettura\, fino alla straordinaria raccolta di Ori Castellani\, al memorabile restauro del sarcofago degli Sposi\, per concludere con la riqualificazione di Villa Poniatowski.\nSei incontri\, un giovedì al mese\, in collaborazione con i progettisti e i direttori dei lavori\, per raccontare i progetti in corso e la Villa Giulia del prossimo anno.\nDa questa stagione di grandi interventi il Museo è proiettato verso un futuro di trasformazioni: non si tratta solo di cambiamenti strutturali\, ma di una nuova visione culturale del Museo che si prepara a diventare il centro di nuovi spazi culturali nel cuore della città di Roma.\n\nIl 9 aprile si parte così con la narrazione del grande progetto di riqualificazione delle ex Concerie Riganti. Un’area mai aperta al pubblico e ora finalmente al centro di uno straordinario recupero. Il cantiere in corso trasformerà in modo significativo l’immagine di Villa Giulia e il suo rapporto con la città: da questo intervento nascerà una nuova area espositiva di 1000 metri quadrati che consentirà finalmente di valorizzare e rendere accessibili al pubblico i materiali oggi conservati nei depositi e che non trovano spazio nella sede espositiva centrale del Museo.\nOltre a questo verrà realizzato un auditorium\, un ristorante\, una terrazza panoramica\, un’area dedicata alle mostre temporanee\, spazi pensati come luoghi di incontro\, di dialogo e di vita culturale.\n\n“Raccontare al pubblico cosa si svolge dentro il museo e i lavori in corso è un nostro dovere come istituzione”\, afferma la direttrice del Museo\, Luana Toniolo. “E’ una responsabilità verso tutti\, in quanto custodiamo un patrimonio culturale che appartiene ad ognuno di noi. Vogliamo condividere in totale trasparenza le azioni che abbiamo intrapreso e queste conferenze racconteranno dalla viva voce di chi lavora quotidianamente nei cantieri\, dal Progettista al direttore dei lavori\, il perché di questi interventi\, che sono parte della visione di un museo che cresce sempre di più\, arricchendosi anche di edifici mai aperti al pubblico prima”.\nInsomma\, sfide ambiziose per il futuro del Museo che abbiamo deciso di anticipare al pubblico con questi incontri gratuiti e aperti alla cittadinanza.\n\nCALENDARIO CONFERENZE\nSala della Fortuna – Ore 17.00\n9 Aprile.\nIl Museo Etrusco cresce: il progetto di riqualificazione delle Concerie Riganti\n14 maggio.\nIl Rinascimento ritrovato. Il cantiere di restauro di Villa Giulia\n4 giugno.\nRipensare il Museo. Il nuovo racconto di Villa Giulia\n17 settembre.\nOreficeria Archeologica Italiana: il nuovo allestimento della collezione Castellani\n8 ottobre.\nNel segno del tempo: il sarcofago degli sposi fra analisi e cura\n12 novembre.\nDall’Egitto all’India: progetti per il recupero e la rifunzionalizzazione di Villa Poniatowski.\n\nIngresso gratuito in sala fortuna\, prenotazione all’indirizzo mail: mn-etru.comunicazione@cultura.gov.it
URL:https://storiearcheostorie.com/event/conferenze-costruire-il-futuro-i-cantieri-di-villa-giulia-roma/
LOCATION:Museo nazionale etrusco di Villa Giulia\, Piazzale di Villa Giulia\, 9\, Roma\, Italy
CATEGORIES:conferenze
ATTACH;FMTTYPE=image/jpeg:https://storiearcheostorie.com/wp-content/uploads/2026/03/costruire-il-futuro-villa-giulia-1.jpg
END:VEVENT
END:VCALENDAR