BEGIN:VCALENDAR
VERSION:2.0
PRODID:-//Storie &amp; Archeostorie - ECPv6.15.20//NONSGML v1.0//EN
CALSCALE:GREGORIAN
METHOD:PUBLISH
X-WR-CALNAME:Storie &amp; Archeostorie
X-ORIGINAL-URL:https://storiearcheostorie.com
X-WR-CALDESC:Eventi per Storie &amp; Archeostorie
REFRESH-INTERVAL;VALUE=DURATION:PT1H
X-Robots-Tag:noindex
X-PUBLISHED-TTL:PT1H
BEGIN:VTIMEZONE
TZID:Europe/Rome
BEGIN:DAYLIGHT
TZOFFSETFROM:+0100
TZOFFSETTO:+0200
TZNAME:CEST
DTSTART:20250330T010000
END:DAYLIGHT
BEGIN:STANDARD
TZOFFSETFROM:+0200
TZOFFSETTO:+0100
TZNAME:CET
DTSTART:20251026T010000
END:STANDARD
BEGIN:DAYLIGHT
TZOFFSETFROM:+0100
TZOFFSETTO:+0200
TZNAME:CEST
DTSTART:20260329T010000
END:DAYLIGHT
BEGIN:STANDARD
TZOFFSETFROM:+0200
TZOFFSETTO:+0100
TZNAME:CET
DTSTART:20261025T010000
END:STANDARD
BEGIN:DAYLIGHT
TZOFFSETFROM:+0100
TZOFFSETTO:+0200
TZNAME:CEST
DTSTART:20270328T010000
END:DAYLIGHT
BEGIN:STANDARD
TZOFFSETFROM:+0200
TZOFFSETTO:+0100
TZNAME:CET
DTSTART:20271031T010000
END:STANDARD
END:VTIMEZONE
BEGIN:VEVENT
DTSTART;TZID=Europe/Rome:20260226T000000
DTEND;TZID=Europe/Rome:20260521T235959
DTSTAMP:20260421T210007
CREATED:20260219T132539Z
LAST-MODIFIED:20260219T132539Z
UID:47352-1772064000-1779407999@storiearcheostorie.com
SUMMARY:Scavi aperti | Al via l’ottava edizione di Close-up Cantieri (Ercolano)
DESCRIPTION:Il Parco Archeologico di Ercolano rinnova l’appuntamento con Close-up Cantieri\, il progetto che apre al pubblico le aree di scavo\, restauro e manutenzione\, offrendo uno sguardo diretto e privilegiato sul lavoro quotidiano di tutela e valorizzazione del patrimonio archeologico.\nGiunta all’ottava edizione consecutiva\, l’iniziativa consente ai visitatori di entrare “dietro le quinte” dei cantieri per conoscere da vicino tecniche\, metodologie e professionalità impegnate nella conservazione del sito\, trasformando l’esperienza di visita in un’occasione di approfondimento e consapevolezza.\nAttivo dal 2019\, Close-up Cantieri si è consolidato come un appuntamento stabile del Parco\, favorendo l’incontro tra tecnici\, restauratori\, personale interno\, studenti e comunità. Il progetto promuove la condivisione di competenze e buone pratiche\, puntando su innovazione\, sicurezza\, sostenibilità ed efficienza organizzativa\, nel quadro dei programmi di miglioramento dei servizi culturali e amministrativi dell’Ente.\nOgni incontro propone visite guidate direttamente nei cantieri di scavo e restauro\, per osservare sul campo interventi\, strumenti e processi che garantiscono la salvaguardia del patrimonio.\n\n\n\n Calendario degli appuntamenti\nGli incontri si terranno a giovedì alterni:\n\n26 febbraio\n12 e 26 marzo\n9 e 23 aprile\n7 e 21 maggio\n\n Orari delle visite\nDue turni della durata di 1 ora ciascuno:\n\n10:00 – 11:00 (in italiano)\n11:30 – 12:30 (in inglese)\n\nÈ possibile partecipare a un solo turno per giornata.\n Modalità di partecipazione\nL’attività è gratuita\, previo acquisto del biglietto ordinario di ingresso al sito (valide anche riduzioni e gratuità secondo normativa).\nPrenotazione obbligatoria:\n\nonline: https://www.coopculture.it/it/prodotti/close-up-cantieri-2026/\ncall center: +39 081 0106490 (lun–sab\, 9:00–17:00)\n\nPartecipazione fino a esaurimento posti.\nGruppi di massimo 15 persone per turno.\nAccoglienza e raccolta all’ingresso dell’area archeologica.\n\n\nPer saperne di più su Ercolano\, leggi su Storie & Archeostorie gli articoli dedicati alle ultime scoperte:\n\nhttps://storiearcheostorie.com/2025/10/08/zenone-stoicismo-papiri-ercolano-termografia\n\nhttps://storiearcheostorie.com/2025/03/19/ercolano-riapertura-domus-2025
URL:https://storiearcheostorie.com/event/archeologia-close-up-cantieri-ercolano-scavi-aperti/
LOCATION:Parco Archeologico di Ercolano\, Corso Resina 187\, Ercolano\, Italy
CATEGORIES:archeologia,scavi aperti,visite guidate
ATTACH;FMTTYPE=image/jpeg:https://storiearcheostorie.com/wp-content/uploads/2026/02/social1-1.jpg
END:VEVENT
BEGIN:VEVENT
DTSTART;TZID=Europe/Rome:20260301T000000
DTEND;TZID=Europe/Rome:20261101T235959
DTSTAMP:20260421T210007
CREATED:20260224T141229Z
LAST-MODIFIED:20260224T141253Z
UID:47551-1772323200-1793577599@storiearcheostorie.com
SUMMARY:Eventi | Giornate dei castelli\, palazzi e borghi medievali (Lombardia - sedi varie)
DESCRIPTION: Con la bella stagione riprendono le “Giornate dei Castelli\, Palazzi e Borghi medievali”\, con portoni che si aprono e ponti levatoi che tornano a scricchiolare. Rocche\, manieri e dimore storiche – spesso non visitabili – si animano con rievocazioni in costume\, laboratori per bambini\, visite guidate\, eventi\, mercatini d’antiquariato e prodotti tipici. \nOgni prima domenica del mese e nelle principali festività – per un totale di 11 giornate – sarà possibile visitare 23 realtà pubbliche e private in un territorio della media pianura lombarda che si estende su 4 province. Piccoli borghi e grandi castelli\, spesso non aperti al pubblico\, entrano in un circuito che si conferma apprezzato dai 20 mila turisti che ogni anno scelgono questa proposta. Ogni visitatore può costruire liberamente il proprio itinerario\, scegliendo quali e quante località visitare sulla base delle aperture previste per ciascuna data. \nTutte le informazioni sono facilmente reperibili online sul sito di Pianura da scoprire\, che nel 2025 ha registrato 1 milione e 300 mila visualizzazioni sulle pagine dedicate del sito www.pianuradascoprire.it e sui canali social dell’Associazione. \nIl portale\, costantemente aggiornato\, offre informazioni dettagliate su orari\, costi e modalità di prenotazione\, oltre una panoramica sugli eventi collaterali\, consigli sulla ristorazione locale e proposte di percorsi tematici\, paesaggistici e bike friendly. In ogni località sarà possibile acquistare il “Passaporto”\, un libretto con immagini e descrizioni dei luoghi visitabili su cui apporre un timbro ad ogni tappa del proprio viaggio. \nDa quest’anno saranno inoltre disponibili le nuove shopper in tela dedicate alla manifestazione. \nSi conferma anche per il 2026 la collaborazione avviata nel 2025 con il circuito “Ville Aperte in Brianza”\, che in due periodi dell’anno (fine aprile e metà settembre) consente di visitare residenze normalmente chiuse al pubblico. Un’iniziativa che amplia ulteriormente l’offerta culturale e turistica regionale. \nCalendario aperture 2026: Domenica 1° marzo\, Lunedì 6 aprile (Pasquetta)\, Sabato 25 aprile (Festa della Liberazione)\, Venerdì 1° maggio (Festa del Lavoro)\, Domenica 3 maggio\, Martedì 2 giugno (Festa della Repubblica)\, Domenica 7 giugno\, Sabato 4 luglio (edizione serale)\, Domenica 6 settembre\, Domenica 4 ottobre\, Domenica 1° novembre . \nLe 23 località coinvolte si trovano nelle seguenti province: Bergamo\, Brescia\, Cremona e Milano. Si ringraziano Regione Lombardia per il patrocinio concesso\, A35 Brebemi Aleatica (main sponsor dell’iniziativa) e Fondazione Comunità Bergamasca per il sostegno. \nTutte le informazioni relative alle località visitabili\, gli orari\, i costi e gli eventi collaterali sono disponibili sul sito: www.pianuradascoprire.it \n  \nLeggi anche \nI più bei castelli della Lombardia e le loro storie in un nuovo libro \n \nWeekend di Ognissanti in Lombardia: storia\, cultura e misteri medievali a due passi da casa \n \n 
URL:https://storiearcheostorie.com/event/giornate-dei-castelli-palazzi-e-borghi-medievali-lombardia/
LOCATION:Lombardia – sedi varie\, Italy
CATEGORIES:eventi,medioevo,rievocazioni storiche
ATTACH;FMTTYPE=image/jpeg:https://storiearcheostorie.com/wp-content/uploads/2026/02/malpaga.jpg
END:VEVENT
END:VCALENDAR