BEGIN:VCALENDAR
VERSION:2.0
PRODID:-//Storie &amp; Archeostorie - ECPv6.15.20//NONSGML v1.0//EN
CALSCALE:GREGORIAN
METHOD:PUBLISH
X-ORIGINAL-URL:https://storiearcheostorie.com
X-WR-CALDESC:Eventi per Storie &amp; Archeostorie
REFRESH-INTERVAL;VALUE=DURATION:PT1H
X-Robots-Tag:noindex
X-PUBLISHED-TTL:PT1H
BEGIN:VTIMEZONE
TZID:Europe/Rome
BEGIN:DAYLIGHT
TZOFFSETFROM:+0100
TZOFFSETTO:+0200
TZNAME:CEST
DTSTART:20250330T010000
END:DAYLIGHT
BEGIN:STANDARD
TZOFFSETFROM:+0200
TZOFFSETTO:+0100
TZNAME:CET
DTSTART:20251026T010000
END:STANDARD
BEGIN:DAYLIGHT
TZOFFSETFROM:+0100
TZOFFSETTO:+0200
TZNAME:CEST
DTSTART:20260329T010000
END:DAYLIGHT
BEGIN:STANDARD
TZOFFSETFROM:+0200
TZOFFSETTO:+0100
TZNAME:CET
DTSTART:20261025T010000
END:STANDARD
BEGIN:DAYLIGHT
TZOFFSETFROM:+0100
TZOFFSETTO:+0200
TZNAME:CEST
DTSTART:20270328T010000
END:DAYLIGHT
BEGIN:STANDARD
TZOFFSETFROM:+0200
TZOFFSETTO:+0100
TZNAME:CET
DTSTART:20271031T010000
END:STANDARD
END:VTIMEZONE
BEGIN:VEVENT
DTSTART;TZID=Europe/Rome:20260218T170000
DTEND;TZID=Europe/Rome:20260218T190000
DTSTAMP:20260421T143345
CREATED:20260213T105134Z
LAST-MODIFIED:20260213T105218Z
UID:47118-1771434000-1771441200@storiearcheostorie.com
SUMMARY:Presentazione libro | La decorazione parietale romana di Mediolanum. Affreschi e stucchi (Fine II sec. a.C. – IV sec. d.C.)
DESCRIPTION:Mercoledì  18 febbraio alle ore 17.00 si terrà nella Sala Azzurra di Palazzo Litta la presentazione del volume La decorazione parietale romana di Mediolanum. Affreschi e stucchi (Fine II sec. a.C. – IV sec. d.C.) di Carla Pagani. \nIl volume\, rendiconto scientifico di consistenti lavori di restauro curati dalla Soprintendenza Archeologia Belle Arti e Paesaggio per la Città metropolitana di Milano\, presenta lo studio dei rivestimenti pittorici di epoca romana rinvenuti a Milano a partire dalla Romanizzazione del centro insubre (fine II sec. a.C.) agli anni che vedono Mediolanum capitale dell’impero d’Occidente e  sede del vescovo Ambrogio (IV sec. d.C.). \nLa ricerca interessa 30 siti urbani oggetto di indagini archeologiche sistematiche da parte della Soprintendenza ABAP per la città Metropolitana di Milano\, dagli anni ’80 del Novecento ad oggi. Rinvenuti prevalentemente in condizioni frammentarie e in giacitura secondaria\, gli affreschi richiedono spesso tempestivi interventi di restauro per il recupero e la conservazione\, anche in vista dello studio scientifico e della valorizzazione delle pitture: un percorso le cui tappe vengono ricostruite nel lavoro. Viene inoltre approfondito l’intero processo produttivo degli intonaci dipinti\, dagli aspetti tecnico-esecutivi\, che si avvalgono delle indagini archeometriche per la composizione delle malte e dei pigmenti\, all’analisi formale e stilistica\, arrivando a proporre una sequenza crono-tipologica delle decorazioni. La lettura di sintesi in catalogo tiene conto delle principali vicende storico-urbanistiche e culturali della città\, mettendo i rinvenimenti pittorici in necessario rapporto con Roma e l’area vesuviana\, ma anche con i centri della Cisalpina e delle aree provinciali. \nI risultati di questo studio multidisciplinare apportano nel complesso un significativo contributo alla conoscenza della società e della cultura decorativa parietale della Mediolanum romana. \nPresenteranno il volume:\nla prof.ssa Irene Bragantini dell’Università degli Studi di Napoli “L’Orientale”\ne il prof. Furio Sacchi dell’Università Cattolica del Sacro Cuore di Milano. \nAll’evento\, moderato dalla dott.ssa Federica Giacobello dell’Università degli Studi del Molise e organizzato in collaborazione con la Direzione regionale Musei nazionali della Lombardia e la Direzione di Palazzo Litta\, sarà presente l’autrice. \n  \nÈ possibile scaricare gratuitamente copia digitale del volume dal sito della Soprintendenza alla pagina https://www.architettonicimilano.lombardia.beniculturali.it/eventi-culturali/pubblicazioni-2/
URL:https://storiearcheostorie.com/event/presentazione-libro-decorazione-parietale-romana-mediolanum/
LOCATION:Palazzo Litta\, Corso Magenta\, 24\, Milano\, Italy
CATEGORIES:archeologia,presentazioni librarie
ATTACH;FMTTYPE=image/jpeg:https://storiearcheostorie.com/wp-content/uploads/2026/02/volume-La-decorazione-parietale-romana-di-Mediolanum.-Affreschi-e-stucchi.jpg
END:VEVENT
END:VCALENDAR