BEGIN:VCALENDAR
VERSION:2.0
PRODID:-//Storie &amp; Archeostorie - ECPv6.15.20//NONSGML v1.0//EN
CALSCALE:GREGORIAN
METHOD:PUBLISH
X-WR-CALNAME:Storie &amp; Archeostorie
X-ORIGINAL-URL:https://storiearcheostorie.com
X-WR-CALDESC:Eventi per Storie &amp; Archeostorie
REFRESH-INTERVAL;VALUE=DURATION:PT1H
X-Robots-Tag:noindex
X-PUBLISHED-TTL:PT1H
BEGIN:VTIMEZONE
TZID:Europe/Rome
BEGIN:DAYLIGHT
TZOFFSETFROM:+0100
TZOFFSETTO:+0200
TZNAME:CEST
DTSTART:20250330T010000
END:DAYLIGHT
BEGIN:STANDARD
TZOFFSETFROM:+0200
TZOFFSETTO:+0100
TZNAME:CET
DTSTART:20251026T010000
END:STANDARD
BEGIN:DAYLIGHT
TZOFFSETFROM:+0100
TZOFFSETTO:+0200
TZNAME:CEST
DTSTART:20260329T010000
END:DAYLIGHT
BEGIN:STANDARD
TZOFFSETFROM:+0200
TZOFFSETTO:+0100
TZNAME:CET
DTSTART:20261025T010000
END:STANDARD
BEGIN:DAYLIGHT
TZOFFSETFROM:+0100
TZOFFSETTO:+0200
TZNAME:CEST
DTSTART:20270328T010000
END:DAYLIGHT
BEGIN:STANDARD
TZOFFSETFROM:+0200
TZOFFSETTO:+0100
TZNAME:CET
DTSTART:20271031T010000
END:STANDARD
END:VTIMEZONE
BEGIN:VEVENT
DTSTART;TZID=Europe/Rome:20260419T000000
DTEND;TZID=Europe/Rome:20260422T235959
DTSTAMP:20260422T040949
CREATED:20260420T101657Z
LAST-MODIFIED:20260420T101657Z
UID:49661-1776556800-1776902399@storiearcheostorie.com
SUMMARY:2779° Natale di Roma. Iniziative culturali gratuite dal 19 al 22 aprile (Roma)
DESCRIPTION:In occasione del 2779° anniversario della fondazione della Città\, Roma Capitale\, Assessorato alla Cultura e al Coordinamento delle iniziative riconducibili alla Giornata della Memoria\, promuove un ricco programma di appuntamenti culturali gratuiti\, pensati per raccontare e celebrare la storia millenaria dell’Urbe. Musica\, arte\, presentazioni\, itinerari tematici e visite guidate costituiranno l’essenza dei festeggiamenti che si svolgeranno dal 19 al 22 aprile\, e raggiungeranno diverse zone della città e alcuni dei luoghi più prestigiosi e riconoscibili: dalle vie e piazze del centro storico fino alle zone del Quadraro e di Casal de’ Pazzi\, dagli spazi dei Musei Civici messi a disposizione dalla Sovrintendenza Capitolina ai Beni culturali fino a Palazzo Senatorio in Campidoglio\, cuore pulsante della vita pubblica cittadina\, eccezionalmente aperto per l’occasione. \n\n“In una città che cambia questa celebrazione del Natale di Roma diventa ancora più importante perché coinvolge diffusamente tutta la città e con iniziative che arrivano a tutti. Il 2779° dell’anniversario della fondazione di Roma passa infatti attraverso la storia\, l’arte e la musica in piazza con numerosi appuntamenti\, attraversando lo spazio pubblico urbano\, da Casal de’ Pazzi\, passando per il Quadraro\, Trinità dei Monti e ancora a Palazzo Senatorio in Campidoglio. Siamo felici di poter mettere a disposizione delle romane e dei romani gli itinerari guidati e gratuiti a cura della Sovrintendenza Capitolina in collaborazione con Zètema Progetto Cultura\, le visite presso Palazzo Senatorio e i concerti diffusi delle bande musicali delle Forze Armate” dichiara Massimiliano Smeriglio\, Assessore alla Cultura e al Coordinamento delle iniziative riconducibili alla Giornata della Memoria di Roma Capitale. \n\nElemento cardine dei festeggiamenti sarà in primo luogo la musica che allieterà il tardo pomeriggio del 21 Aprile con un momento di partecipazione collettiva\, in partenza in contemporanea alle ore 17.30\, in diversi punti del centro storico. Protagoniste assolute di questo omaggio alla città eterna saranno le Bande musicali delle Forze Armate che porteranno il proprio repertorio in alcuni luoghi suggestivi: da PIAZZA DEL CAMPIDOGLIO che ospiterà il consueto concerto della Banda della Polizia locale di Roma Capitale\, fino alla SCALINATA DI TRINITÀ DEI MONTI\, dove si esibirà la Banda dell’Esercito Italiano; da PIAZZA SAN SILVESTRO\, in cui si terrà il concerto della Banda della Marina Militare\, fino ad arrivare a PIAZZA PIA\, luogo designato a ospitare l’esibizione della Banda dell’Aeronautica Militare. E poi ancora PIAZZA DI SAN LORENZO IN LUCINA con la Banda dell’Arma dei Carabinieri\, PIAZZA DI PIETRA\, in cui si esibirà la Banda della Polizia di Stato e PIAZZA DI S. IGNAZIO che ospiterà la Banda della Polizia Penitenziaria. \n\nAncora il 21 aprile\, nel pomeriggio\, si tornerà in PIAZZA DEL CAMPIDOGLIO per un’altra iniziativa speciale. Alle ore 16.30\, 17.15\, 18.00 e 18.45 le visitatrici e i visitatori potranno accedere eccezionalmente a PALAZZO SENATORIO per le visite gratuite all’Aula Giulio Cesare\, a cura della Sovrintendenza Capitolina ai Beni culturali in collaborazione con Zètema Progetto Cultura. I gruppi di massimo 30 partecipanti potranno accedere dall’ingresso di Sisto IV\, in prossimità della colonna con la Lupa Capitolina (in via San Pietro in Carcere). Guide esperte accoglieranno i visitatori presso l’Aula Giulio Cesare e forniranno brevi approfondimenti sulla storia di Palazzo Senatorio\, sede del Comune di Roma dal 1143\, e sulla funzione dell’Aula assembleare. La partecipazione è gratuita previa prenotazione obbligatoria allo 060608 a partire dalle ore 10.00 di venerdì 17 aprile. \n  \nMa il programma di visite e itinerari guidati a cura della Sovrintendenza Capitolina ai Beni culturali in collaborazione con Zètema Progetto Cultura\, si estende anche ai giorni limitrofi ampliando così la rilevanza della ricorrenza. Si comincia il 19 aprile alle ore 10.00 presso il MUSEO DI CASAL DE’ PAZZI\, dove si terrà la presentazione di un inedito albo a fumetti dedicato alla preistoria dell’area e alle origini del popolamento umano nell’agro romano. Un racconto affascinante che restituisce\, in forma accessibile e coinvolgente\, le radici più profonde della città. \nSi arriva poi a martedì 21 aprile\, nel giorno della fondazione di Roma\, in cui il programma si intensificherà con numerosi appuntamenti disseminati lungo l’intera giornata. Alle ore 10.00\, con un itinerario urbano gratuito tra le strade del QUADRARO\, si andrà alla scoperta delle opere di street art del progetto M.U.Ro\, in un percorso che intreccia linguaggi contemporanei e memoria storica del quartiere\, colpito dal tragico rastrellamento del 17 aprile 1944 (partecipazione gratuita con prenotazione obbligatoria allo 060608). Si prosegue poi alle ore 11.00 con la visita guidata alla mostra Constantin Brâncuşi: le Origini dell’Infinito ai MERCATI DI TRAIANO – MUSEO DEI FORI IMPERIALI che metterà in luce il suggestivo dialogo tra la scultura antica e quella moderna del maestro rumeno\, evidenziando al contempo i legami culturali tra Roma e la Romania. Sempre alle ore 11.00\, nell’ambito del programma aMICi\, si terrà al MUSEO PIETRO CANONICA la visita guidata Pietro Canonica e il fascino dell’Oriente per scoprire i tesori nascosti nella casa-museo di Villa Borghese e approfondire il ruolo dello scultore nell’esportazione del modello dei monumenti delle Capitali d’Italia – da Torino a Roma – presso i leader mediorientali. \n\nNel pomeriggio\, gli appuntamenti proseguiranno alle ore 15.30 al MUSEO DI SCULTURA ANTICA GIOVANNI BARRACCO con la visita guidata alla Sala Romana che consentirà di approfondire tematiche relative all’antica Civiltà attraverso lo studio delle opere d’epoca in essa conservate; alle ore 16.30\, alla GALLERIA D’ARTE MODERNA\, con una visita tematica alla mostra GAM 100. Un secolo di Galleria Comunale 1925–2025\, per scoprire e approfondire la nascita e l’evoluzione della prima collezione comunale di arte moderna e contemporanea; alle ore 18.00\, al MUSEO DI ROMA IN TRASTEVERE per ammirare le immagini della città eterna vista attraverso gli scatti del fotografo francese Hervé Gloaguen\, realizzati tra il 1975 e il 1995 durante le sue esplorazioni notturne. \n\nIl programma si concluderà mercoledì 22 aprile alle ore 16.00 presso il MUSEO DI ROMA\, a Palazzo Braschi\, con la visita Vivere a Roma: piazze\, feste e mestieri. Un approfondimento sulla vita quotidiana della città dal Seicento all’Ottocento – tra mercati\, celebrazioni e antichi mestieri – raccontata attraverso i disegni e le incisioni presenti nella collezione del museo. \n\nLe visite guidate all’interno dei Musei Civici sono gratuite previo acquisto del biglietto del museo secondo tariffazione vigente. L’ingresso ai Musei Civici di Roma Capitale è gratuito per tutti i residenti a Roma e nella Città Metropolitana. \nLe prenotazioni per le visite a Palazzo Senatorio partiranno dalle ore 10.00 del 17 aprile 2026. \n  \n 
URL:https://storiearcheostorie.com/event/2779-natale-di-roma-iniziative-culturali-gratuite-19-22-aprile/
LOCATION:Roma – Sedi varie\, Roma\, Italy
CATEGORIES:archeologia,arte,eventi
ATTACH;FMTTYPE=image/jpeg:https://storiearcheostorie.com/wp-content/uploads/2026/04/16_Museo-Barracco_ph.-WPS-1.jpg
END:VEVENT
END:VCALENDAR