BEGIN:VCALENDAR
VERSION:2.0
PRODID:-//Storie &amp; Archeostorie - ECPv6.15.20//NONSGML v1.0//EN
CALSCALE:GREGORIAN
METHOD:PUBLISH
X-WR-CALNAME:Storie &amp; Archeostorie
X-ORIGINAL-URL:https://storiearcheostorie.com
X-WR-CALDESC:Eventi per Storie &amp; Archeostorie
REFRESH-INTERVAL;VALUE=DURATION:PT1H
X-Robots-Tag:noindex
X-PUBLISHED-TTL:PT1H
BEGIN:VTIMEZONE
TZID:Europe/Rome
BEGIN:DAYLIGHT
TZOFFSETFROM:+0100
TZOFFSETTO:+0200
TZNAME:CEST
DTSTART:20250330T010000
END:DAYLIGHT
BEGIN:STANDARD
TZOFFSETFROM:+0200
TZOFFSETTO:+0100
TZNAME:CET
DTSTART:20251026T010000
END:STANDARD
BEGIN:DAYLIGHT
TZOFFSETFROM:+0100
TZOFFSETTO:+0200
TZNAME:CEST
DTSTART:20260329T010000
END:DAYLIGHT
BEGIN:STANDARD
TZOFFSETFROM:+0200
TZOFFSETTO:+0100
TZNAME:CET
DTSTART:20261025T010000
END:STANDARD
BEGIN:DAYLIGHT
TZOFFSETFROM:+0100
TZOFFSETTO:+0200
TZNAME:CEST
DTSTART:20270328T010000
END:DAYLIGHT
BEGIN:STANDARD
TZOFFSETFROM:+0200
TZOFFSETTO:+0100
TZNAME:CET
DTSTART:20271031T010000
END:STANDARD
END:VTIMEZONE
BEGIN:VEVENT
DTSTART;TZID=Europe/Rome:20260417T000000
DTEND;TZID=Europe/Rome:20260906T235959
DTSTAMP:20260422T001822
CREATED:20260420T065359Z
LAST-MODIFIED:20260420T065359Z
UID:49620-1776384000-1788739199@storiearcheostorie.com
SUMMARY:Mostra | Regine in scena. L’arte del costume italiano tra cinema e teatro (Venaria Reale - TO)
DESCRIPTION:Alla Reggia di Venaria\, complesso monumentale alle porte di Torino tra i più visitati\nin Italia\, dal 17 aprile al 6 settembre 2026 il Consorzio delle Residenze Reali\nSabaude – presieduto da Michele Briamonte con la direzione di Chiara Teolato –\norganizza una grande mostra su straordinari abiti che hanno definito\nl’immagine delle regine nel cinema e nel teatro.\nLa mostra è curata da Massimo Cantini Parrini\, pluripremiato costumista\, profondo\nconoscitore del costume antico e collezionista di abiti d’epoca\, con Clara Goria\, storica\ndell’arte e conservatrice del Centro Studi del Consorzio delle Residenze Reali Sabaude.\nRegine in scena. L’arte del costume italiano tra cinema e teatro riunisce nelle\nSale delle Arti della Reggia una selezione di 31 abiti che hanno definito\, nel tempo\,\nl’immagine della regina nel cinema e nel teatro\, restituendo al costume la sua\nfunzione più profonda: non semplice ornamento\, ma dispositivo capace di generare\npercezione di potere\, identità e visione.\nLa mostra è dedicata al tema della regalità come invenzione scenica\, un\nlinguaggio che attraversa i secoli e i generi\, costruendo figure capaci di imporsi\nnell’immaginario prima ancora della parola. Al centro\, l’arte del costume tra cinema e\nteatro\, officine diverse della stessa meraviglia: nel cinema il costume vive nel dettaglio\,\nnella luce e nell’inquadratura che ne rivelano la materia; in teatro governa lo spazio\, deve\nessere leggibile da lontano e respirare con l’attore e con il tempo della scena.\nLa mostra si inserisce nel filone tematico espositivo della Reggia di Venaria\ndedicato alla moda e al costume avviato nel 2011 con Moda in Italia. 150 anni di \neleganza (1861–2011). Ma il racconto della sovranità femminile è anche un\nmodo per tornare alla nascita del complesso della Venaria Reale\, alla metà del\nSeicento\, in cui ebbero un ruolo centrale le duchesse Cristina di Francia e Maria\nGiovanna Battista di Savoia Nemours. \nIL PERCORSO DELLA MOSTRA\nIl percorso narrativo della mostra si articola attorno a tre nuclei fondamentali —\nmito\, storia\, fantasia — che si intrecciano nella costruzione dell’immaginario scenico\,\ntra ricerca filologica e interpretazione poetica. Regine mitologiche e leggendarie\, regine\nfantastiche nate dalla letteratura e dalla drammaturgia e sovrane realmente esistite\nconvivono in un racconto che supera la distinzione tra vero e immaginato\, affermando\nuna verità più profonda: quella del linguaggio visivo.\nOro\, argento e bronzo sono i colori della mostra che rimandano alla regalità\, segnando le\ntre sezioni: Fantasia in argento\, Mito in bronzo e Storia in oro. L’allestimento stesso si\nconfigura come un’architettura prospettica in tre atti (Mito\, Storia\, Fantasia) e undici\nscene che mette in luce una selezione di 31 abiti d’autore\, firmati da grandi\ncostumisti e artisti\, realizzati da eccellenze sartoriali italiane per celebri regie ed\ninterpreti. \nTra le presenze in mostra emergono figure iconiche della regalità scenica:\nl’Incantevole Strega\, la regina degli specchi\, interpretata da Monica Bellucci\nin I fratelli Grimm di Terry Gilliam (2005)\, Ariadne\, regina della luna/Valentina\nCortese ne Le avventure del barone di Münchausen (1988) e Titania\, regina delle\nfate/Michelle Pfeiffer in Sogno di una notte di mezza estate (1999) nei costumi di\nGabriella Pescucci. Tra le regine del mito compaiono Giocasta/Silvana Mangano e\nMedea/Maria Callas nel cinema di Pier Paolo Pasolini (1967\, 1969) nei costumi dei\nmaestri Piero Tosi e Danilo Donati. E poi le regine nella storia\, Cleopatra/Liz Taylor\nnei faraonici abiti del kolossal di Mankiewitz del 1963\, Elisabetta I\nd’Inghilterra/Rossella Falk in Maria Stuarda di Franco Zeffirelli vestita da Anna \nAnni\, Anna Bolena/Angelina Jolie nel ruolo di Maria Callas in Maria di Pablo \nLarraín (2024) e Maria Antonietta/Mélanie Laurent ne Le Déluge. Gli ultimi giorni\ndi Maria Antonietta di Gianluca Jodice (2024)\, quest’ultimo in parte girato nella stessa\nReggia di Venaria\, entrambe nei costumi di Massimo Cantini Parrini. E ancora\, Maria\nAntonietta interpretata da Kirsten Dunst\, che ridefinisce un’immagine pop e\ncontemporanea della regina per la regia di Sofia Coppola (2006)\, fino a Elisabetta di\nBaviera\, la mitica Sissi\, consacrata dal cinema con il volto di Romy Schneider\nin Ludwig di Luchino Visconti (1973). \nIl viaggio proposto al visitatore attraversa cinema\, teatro e opera lirica fino alle più\nrecenti serie televisive\, costruendo un dialogo continuo tra epoche\, stili e linguaggi.\nLa Reggia di Venaria diventa parte integrante della narrazione: le sue\narchitetture amplificano la teatralità dei costumi\, mentre lo spazio e la prospettiva\npermettono di coglierne pienamente silhouette\, proporzioni e presenza scenica. In luce\nemergono tessuti\, ricami\, cromie\, pesi e strutture\, insieme ai bozzetti originali riprodotti\nin mostra\, che rivelano il processo creativo alla base della costruzione dell’immagine\nregale.\nIn mostra opere dei più grandi maestri del costume teatrale e\ncinematografico\, dal primo Novecento a oggi: Anna Anni\, Giancarlo Bartolini\nSalimbeni\, Aldo Calvo\, Milena Canonero\, Massimo Cantini Parrini\, Giulio Coltellacci\,\nDanilo Donati\, Gabriella Pescucci\, Luigi Sapelli detto Caramba\, Gino Carlo Sensani\,\nPiero Tosi. Accanto a loro\, i costumi ideati da grandi artisti come Felice Casorati\,\nCorrado Cagli\, Giorgio de Chirico e Arnaldo Pomodoro.\nLe opere provengono da importanti istituzioni e collezioni: Gallerie degli Uffizi –\nMuseo della Moda e del Costume di Firenze\, Costumi d’Arte Peruzzi\, Tirelli Trappetti\,\nSartoria Farani\, Archivio Corrado Cagli di Roma\, Fondazione Cerratelli di Pisa\, Sartoria\nDe Valle di Torino e la collezione di Massimo Cantini Parrini. \n  \nGli abiti sono accompagnati da parrucche\, gioielli e ornamenti — elementi\nessenziali nella costruzione dell’identità visiva — provenienti da laboratori specializzati o\nfatti realizzare appositamente su modelli originali in occasione della mostra.\nEmerge così una vera e propria geografia del fare: musei\, archivi e sartorie che\ncustodiscono saperi rari\, restituendo una costellazione di competenze che ha reso il\ncostume italiano uno dei linguaggi più riconoscibili e influenti nel panorama\ninternazionale.
URL:https://storiearcheostorie.com/event/mostra-regine-in-scena-reggia-di-venaria/
LOCATION:Reggia di Venaria\, Piazza della Repubblica 4\, Venaria Reale\, Italy
CATEGORIES:documentaria,mostre
ATTACH;FMTTYPE=image/jpeg:https://storiearcheostorie.com/wp-content/uploads/2026/04/regine-in-scena-mostra-reggia-di-venaria.jpg
END:VEVENT
END:VCALENDAR